Package: TPP2D Version: 1.16.0 Command: chmod a+r TPP2D -R && F:\biocbuild\bbs-3.17-bioc\R\bin\R.exe CMD build --keep-empty-dirs --no-resave-data TPP2D StartedAt: 2023-10-15 22:53:40 -0400 (Sun, 15 Oct 2023) EndedAt: 2023-10-15 22:54:20 -0400 (Sun, 15 Oct 2023) EllapsedTime: 40.3 seconds RetCode: 0 Status: OK PackageFile: TPP2D_1.16.0.tar.gz PackageFileSize: 2.136 MiB