Package: TPP2D Version: 1.16.0 Command: rm -rf TPP2D.buildbin-libdir && mkdir TPP2D.buildbin-libdir && F:\biocbuild\bbs-3.17-bioc\R\bin\R.exe CMD INSTALL --build --library=TPP2D.buildbin-libdir TPP2D_1.16.0.tar.gz StartedAt: 2023-10-16 09:40:02 -0400 (Mon, 16 Oct 2023) EndedAt: 2023-10-16 09:40:16 -0400 (Mon, 16 Oct 2023) EllapsedTime: 13.0 seconds RetCode: 0 Status: OK PackageFile: TPP2D_1.16.0.zip PackageFileSize: 1.726 MiB