Package: TPP2D Version: 1.16.0 Command: /home/biocbuild/bbs-3.17-bioc/R/bin/R CMD INSTALL TPP2D StartedAt: 2023-10-15 15:44:17 -0400 (Sun, 15 Oct 2023) EndedAt: 2023-10-15 15:44:25 -0400 (Sun, 15 Oct 2023) EllapsedTime: 8.0 seconds RetCode: 0 Status: OK