Package: TPP2D Version: 1.16.0 Command: /home/biocbuild/bbs-3.17-bioc/R/bin/R CMD check --install=check:TPP2D.install-out.txt --library=/home/biocbuild/bbs-3.17-bioc/R/site-library --timings TPP2D_1.16.0.tar.gz StartedAt: 2023-10-16 01:49:41 -0400 (Mon, 16 Oct 2023) EndedAt: 2023-10-16 01:51:43 -0400 (Mon, 16 Oct 2023) EllapsedTime: 121.6 seconds RetCode: 0 Status: OK CheckDir: TPP2D.Rcheck Warnings: 0