Package: TPP2D Version: 1.16.0 Command: /home/biocbuild/bbs-3.17-bioc/R/bin/R CMD build --keep-empty-dirs --no-resave-data TPP2D StartedAt: 2023-10-15 18:49:52 -0400 (Sun, 15 Oct 2023) EndedAt: 2023-10-15 18:50:23 -0400 (Sun, 15 Oct 2023) EllapsedTime: 30.9 seconds RetCode: 0 Status: OK PackageFile: TPP2D_1.16.0.tar.gz PackageFileSize: 2.258 MiB