Package: TPP2D Version: 1.16.0 Command: /Library/Frameworks/R.framework/Resources/bin/R CMD build --keep-empty-dirs --no-resave-data TPP2D StartedAt: 2023-10-15 21:56:10 -0400 (Sun, 15 Oct 2023) EndedAt: 2023-10-15 21:57:32 -0400 (Sun, 15 Oct 2023) EllapsedTime: 82.0 seconds RetCode: 0 Status: OK PackageFile: TPP2D_1.16.0.tar.gz PackageFileSize: 2.263 MiB