Package: TOAST Version: 1.14.0 Command: /home/biocbuild/bbs-3.17-bioc/R/bin/R CMD build --keep-empty-dirs --no-resave-data TOAST StartedAt: 2023-10-15 18:49:21 -0400 (Sun, 15 Oct 2023) EndedAt: 2023-10-15 18:51:36 -0400 (Sun, 15 Oct 2023) EllapsedTime: 135.2 seconds RetCode: 0 Status: OK PackageFile: TOAST_1.14.0.tar.gz PackageFileSize: 3.582 MiB