Package: TOAST Version: 1.14.0 Command: /Library/Frameworks/R.framework/Resources/bin/R CMD check --install=check:TOAST.install-out.txt --library=/Library/Frameworks/R.framework/Resources/library --no-vignettes --timings TOAST_1.14.0.tar.gz StartedAt: 2023-10-16 08:06:48 -0400 (Mon, 16 Oct 2023) EndedAt: 2023-10-16 08:18:47 -0400 (Mon, 16 Oct 2023) EllapsedTime: 719.0 seconds RetCode: 0 Status: OK CheckDir: TOAST.Rcheck Warnings: 0