Package: TOAST Version: 1.14.0 Command: rm -rf TOAST.buildbin-libdir && mkdir TOAST.buildbin-libdir && /Users/biocbuild/BBS/utils/build-universal.sh TOAST_1.14.0.tar.gz /Library/Frameworks/R.framework/Resources/bin/R TOAST.buildbin-libdir StartedAt: 2023-10-16 10:21:44 -0400 (Mon, 16 Oct 2023) EndedAt: 2023-10-16 10:23:07 -0400 (Mon, 16 Oct 2023) EllapsedTime: 82.6 seconds RetCode: 0 Status: OK PackageFile: TOAST_1.14.0.tgz PackageFileSize: 3.75 MiB