Package: TNBC.CMS Version: 1.16.0 Command: rm -rf TNBC.CMS.buildbin-libdir && mkdir TNBC.CMS.buildbin-libdir && F:\biocbuild\bbs-3.17-bioc\R\bin\R.exe CMD INSTALL --build --library=TNBC.CMS.buildbin-libdir TNBC.CMS_1.16.0.tar.gz StartedAt: 2023-10-16 09:39:43 -0400 (Mon, 16 Oct 2023) EndedAt: 2023-10-16 09:40:26 -0400 (Mon, 16 Oct 2023) EllapsedTime: 42.5 seconds RetCode: 0 Status: OK PackageFile: TNBC.CMS_1.16.0.zip PackageFileSize: 3.102 MiB