Package: TNBC.CMS Version: 1.16.0 Command: /home/biocbuild/bbs-3.17-bioc/R/bin/R CMD INSTALL TNBC.CMS StartedAt: 2023-10-15 15:45:08 -0400 (Sun, 15 Oct 2023) EndedAt: 2023-10-15 15:45:44 -0400 (Sun, 15 Oct 2023) EllapsedTime: 36.2 seconds RetCode: 0 Status: OK