Package: TNBC.CMS Version: 1.16.0 Command: /home/biocbuild/bbs-3.17-bioc/R/bin/R CMD check --install=check:TNBC.CMS.install-out.txt --library=/home/biocbuild/bbs-3.17-bioc/R/site-library --timings TNBC.CMS_1.16.0.tar.gz StartedAt: 2023-10-16 01:47:39 -0400 (Mon, 16 Oct 2023) EndedAt: 2023-10-16 01:52:05 -0400 (Mon, 16 Oct 2023) EllapsedTime: 265.5 seconds RetCode: 0 Status: OK CheckDir: TNBC.CMS.Rcheck Warnings: 0