Package: TNBC.CMS Version: 1.16.0 Command: /home/biocbuild/bbs-3.17-bioc/R/bin/R CMD build --keep-empty-dirs --no-resave-data TNBC.CMS StartedAt: 2023-10-15 18:49:18 -0400 (Sun, 15 Oct 2023) EndedAt: 2023-10-15 18:50:17 -0400 (Sun, 15 Oct 2023) EllapsedTime: 58.6 seconds RetCode: 0 Status: OK PackageFile: TNBC.CMS_1.16.0.tar.gz PackageFileSize: 2.962 MiB