Package: TNBC.CMS Version: 1.16.0 Command: /Library/Frameworks/R.framework/Resources/bin/R CMD check --install=check:TNBC.CMS.install-out.txt --library=/Library/Frameworks/R.framework/Resources/library --no-vignettes --timings TNBC.CMS_1.16.0.tar.gz StartedAt: 2023-10-16 08:05:55 -0400 (Mon, 16 Oct 2023) EndedAt: 2023-10-16 08:16:11 -0400 (Mon, 16 Oct 2023) EllapsedTime: 615.3 seconds RetCode: 0 Status: OK CheckDir: TNBC.CMS.Rcheck Warnings: 0