Package: TNBC.CMS Version: 1.16.0 Command: /Library/Frameworks/R.framework/Resources/bin/R CMD build --keep-empty-dirs --no-resave-data TNBC.CMS StartedAt: 2023-10-15 21:55:18 -0400 (Sun, 15 Oct 2023) EndedAt: 2023-10-15 21:57:43 -0400 (Sun, 15 Oct 2023) EllapsedTime: 145.3 seconds RetCode: 0 Status: OK PackageFile: TNBC.CMS_1.16.0.tar.gz PackageFileSize: 2.961 MiB