Package: TIN Version: 1.32.0 Command: rm -rf TIN.buildbin-libdir && mkdir TIN.buildbin-libdir && F:\biocbuild\bbs-3.17-bioc\R\bin\R.exe CMD INSTALL --build --library=TIN.buildbin-libdir TIN_1.32.0.tar.gz StartedAt: 2023-10-16 09:39:29 -0400 (Mon, 16 Oct 2023) EndedAt: 2023-10-16 09:39:59 -0400 (Mon, 16 Oct 2023) EllapsedTime: 30.1 seconds RetCode: 0 Status: OK PackageFile: TIN_1.32.0.zip PackageFileSize: 4.565 MiB