Package: TIN Version: 1.32.0 Command: /home/biocbuild/bbs-3.17-bioc/R/bin/R CMD INSTALL TIN StartedAt: 2023-10-15 15:34:01 -0400 (Sun, 15 Oct 2023) EndedAt: 2023-10-15 15:34:24 -0400 (Sun, 15 Oct 2023) EllapsedTime: 22.8 seconds RetCode: 0 Status: OK