Package: TIN Version: 1.32.0 Command: /Library/Frameworks/R.framework/Resources/bin/R CMD build --keep-empty-dirs --no-resave-data TIN StartedAt: 2023-10-15 21:54:35 -0400 (Sun, 15 Oct 2023) EndedAt: 2023-10-15 21:57:05 -0400 (Sun, 15 Oct 2023) EllapsedTime: 150.6 seconds RetCode: 0 Status: OK PackageFile: TIN_1.32.0.tar.gz PackageFileSize: 4.593 MiB