Package: TFutils Version: 1.20.0 Command: /Library/Frameworks/R.framework/Resources/bin/R CMD check --install=check:TFutils.install-out.txt --library=/Library/Frameworks/R.framework/Resources/library --no-vignettes --timings TFutils_1.20.0.tar.gz StartedAt: 2023-10-16 08:00:12 -0400 (Mon, 16 Oct 2023) EndedAt: 2023-10-16 08:11:34 -0400 (Mon, 16 Oct 2023) EllapsedTime: 682.8 seconds RetCode: 0 Status: OK CheckDir: TFutils.Rcheck Warnings: 0