Package: TFHAZ Version: 1.22.0 Command: /home/biocbuild/bbs-3.17-bioc/R/bin/R CMD check --install=check:TFHAZ.install-out.txt --library=/home/biocbuild/bbs-3.17-bioc/R/site-library --timings TFHAZ_1.22.0.tar.gz StartedAt: 2023-10-16 01:44:06 -0400 (Mon, 16 Oct 2023) EndedAt: 2023-10-16 01:49:08 -0400 (Mon, 16 Oct 2023) EllapsedTime: 302.4 seconds RetCode: 0 Status: OK CheckDir: TFHAZ.Rcheck Warnings: 0