Package: TFHAZ Version: 1.22.0 Command: rm -rf TFHAZ.buildbin-libdir && mkdir TFHAZ.buildbin-libdir && /Users/biocbuild/BBS/utils/build-universal.sh TFHAZ_1.22.0.tar.gz /Library/Frameworks/R.framework/Resources/bin/R TFHAZ.buildbin-libdir StartedAt: 2023-10-16 10:20:50 -0400 (Mon, 16 Oct 2023) EndedAt: 2023-10-16 10:23:00 -0400 (Mon, 16 Oct 2023) EllapsedTime: 130.6 seconds RetCode: 0 Status: OK PackageFile: TFHAZ_1.22.0.tgz PackageFileSize: 3.395 MiB