Package: TFBSTools Version: 1.38.0 Command: F:\biocbuild\bbs-3.17-bioc\R\bin\R.exe CMD INSTALL TFBSTools StartedAt: 2023-10-15 16:15:33 -0400 (Sun, 15 Oct 2023) EndedAt: 2023-10-15 16:16:47 -0400 (Sun, 15 Oct 2023) EllapsedTime: 74.1 seconds RetCode: 0 Status: OK