Package: TFBSTools Version: 1.38.0 Command: chmod a+r TFBSTools -R && F:\biocbuild\bbs-3.17-bioc\R\bin\R.exe CMD build --keep-empty-dirs --no-resave-data TFBSTools StartedAt: 2023-10-15 22:49:59 -0400 (Sun, 15 Oct 2023) EndedAt: 2023-10-15 22:51:48 -0400 (Sun, 15 Oct 2023) EllapsedTime: 108.9 seconds RetCode: 0 Status: OK PackageFile: TFBSTools_1.38.0.tar.gz PackageFileSize: 548.1 KiB