Package: TFARM Version: 1.22.0 Command: /home/biocbuild/bbs-3.17-bioc/R/bin/R CMD build --keep-empty-dirs --no-resave-data TFARM StartedAt: 2023-10-15 18:47:40 -0400 (Sun, 15 Oct 2023) EndedAt: 2023-10-15 18:49:42 -0400 (Sun, 15 Oct 2023) EllapsedTime: 122.4 seconds RetCode: 0 Status: OK PackageFile: TFARM_1.22.0.tar.gz PackageFileSize: 470.9 KiB