Package: TFARM Version: 1.22.0 Command: /Library/Frameworks/R.framework/Resources/bin/R CMD check --install=check:TFARM.install-out.txt --library=/Library/Frameworks/R.framework/Resources/library --no-vignettes --timings TFARM_1.22.0.tar.gz StartedAt: 2023-10-16 07:58:49 -0400 (Mon, 16 Oct 2023) EndedAt: 2023-10-16 08:04:04 -0400 (Mon, 16 Oct 2023) EllapsedTime: 315.3 seconds RetCode: 0 Status: OK CheckDir: TFARM.Rcheck Warnings: 0