Package: TFARM Version: 1.22.0 Command: rm -rf TFARM.buildbin-libdir && mkdir TFARM.buildbin-libdir && /Users/biocbuild/BBS/utils/build-universal.sh TFARM_1.22.0.tar.gz /Library/Frameworks/R.framework/Resources/bin/R TFARM.buildbin-libdir StartedAt: 2023-10-16 10:20:46 -0400 (Mon, 16 Oct 2023) EndedAt: 2023-10-16 10:21:44 -0400 (Mon, 16 Oct 2023) EllapsedTime: 57.8 seconds RetCode: 0 Status: OK PackageFile: TFARM_1.22.0.tgz PackageFileSize: 535.2 KiB