Package: TEKRABber Version: 1.4.0 Command: F:\biocbuild\bbs-3.17-bioc\R\bin\R.exe CMD INSTALL TEKRABber StartedAt: 2023-10-15 16:17:21 -0400 (Sun, 15 Oct 2023) EndedAt: 2023-10-15 16:18:04 -0400 (Sun, 15 Oct 2023) EllapsedTime: 43.0 seconds RetCode: 0 Status: OK