Package: TEKRABber Version: 1.4.0 Command: chmod a+r TEKRABber -R && F:\biocbuild\bbs-3.17-bioc\R\bin\R.exe CMD build --keep-empty-dirs --no-resave-data TEKRABber StartedAt: 2023-10-15 22:49:15 -0400 (Sun, 15 Oct 2023) EndedAt: 2023-10-15 22:51:06 -0400 (Sun, 15 Oct 2023) EllapsedTime: 111.0 seconds RetCode: 0 Status: OK PackageFile: TEKRABber_1.4.0.tar.gz PackageFileSize: 3.858 MiB