Package: TEKRABber Version: 1.4.0 Command: rm -rf TEKRABber.buildbin-libdir && mkdir TEKRABber.buildbin-libdir && F:\biocbuild\bbs-3.17-bioc\R\bin\R.exe CMD INSTALL --build --library=TEKRABber.buildbin-libdir TEKRABber_1.4.0.tar.gz StartedAt: 2023-10-16 09:38:42 -0400 (Mon, 16 Oct 2023) EndedAt: 2023-10-16 09:39:29 -0400 (Mon, 16 Oct 2023) EllapsedTime: 46.8 seconds RetCode: 0 Status: OK PackageFile: TEKRABber_1.4.0.zip PackageFileSize: 3.918 MiB