Package: TEKRABber Version: 1.4.0 Command: rm -rf TEKRABber.buildbin-libdir && mkdir TEKRABber.buildbin-libdir && /Users/biocbuild/BBS/utils/build-universal.sh TEKRABber_1.4.0.tar.gz /Library/Frameworks/R.framework/Resources/bin/R TEKRABber.buildbin-libdir StartedAt: 2023-10-16 10:20:41 -0400 (Mon, 16 Oct 2023) EndedAt: 2023-10-16 10:22:25 -0400 (Mon, 16 Oct 2023) EllapsedTime: 104.2 seconds RetCode: 0 Status: OK PackageFile: TEKRABber_1.4.0.tgz PackageFileSize: 3.592 MiB