Package: TDbasedUFE Version: 1.0.0 Command: F:\biocbuild\bbs-3.17-bioc\R\bin\R.exe CMD check --no-multiarch --install=check:TDbasedUFE.install-out.txt --library=F:\biocbuild\bbs-3.17-bioc\R\library --no-vignettes --timings TDbasedUFE_1.0.0.tar.gz StartedAt: 2023-10-16 07:34:03 -0400 (Mon, 16 Oct 2023) EndedAt: 2023-10-16 07:35:53 -0400 (Mon, 16 Oct 2023) EllapsedTime: 109.7 seconds RetCode: 0 Status: OK CheckDir: TDbasedUFE.Rcheck Warnings: 0