Package: TDbasedUFE Version: 1.0.0 Command: rm -rf TDbasedUFE.buildbin-libdir && mkdir TDbasedUFE.buildbin-libdir && F:\biocbuild\bbs-3.17-bioc\R\bin\R.exe CMD INSTALL --build --library=TDbasedUFE.buildbin-libdir TDbasedUFE_1.0.0.tar.gz StartedAt: 2023-10-16 09:38:38 -0400 (Mon, 16 Oct 2023) EndedAt: 2023-10-16 09:38:55 -0400 (Mon, 16 Oct 2023) EllapsedTime: 16.5 seconds RetCode: 0 Status: OK PackageFile: TDbasedUFE_1.0.0.zip PackageFileSize: 806 KiB