Package: TDbasedUFE Version: 1.0.0 Command: /home/biocbuild/bbs-3.17-bioc/R/bin/R CMD INSTALL TDbasedUFE StartedAt: 2023-10-15 15:29:56 -0400 (Sun, 15 Oct 2023) EndedAt: 2023-10-15 15:30:07 -0400 (Sun, 15 Oct 2023) EllapsedTime: 11.7 seconds RetCode: 0 Status: OK