Package: TDbasedUFE Version: 1.0.0 Command: /home/biocbuild/bbs-3.17-bioc/R/bin/R CMD check --install=check:TDbasedUFE.install-out.txt --library=/home/biocbuild/bbs-3.17-bioc/R/site-library --timings TDbasedUFE_1.0.0.tar.gz StartedAt: 2023-10-16 01:41:41 -0400 (Mon, 16 Oct 2023) EndedAt: 2023-10-16 01:43:47 -0400 (Mon, 16 Oct 2023) EllapsedTime: 125.7 seconds RetCode: 0 Status: OK CheckDir: TDbasedUFE.Rcheck Warnings: 0