Package: TDbasedUFE Version: 1.0.0 Command: /home/biocbuild/bbs-3.17-bioc/R/bin/R CMD build --keep-empty-dirs --no-resave-data TDbasedUFE StartedAt: 2023-10-15 18:47:05 -0400 (Sun, 15 Oct 2023) EndedAt: 2023-10-15 18:47:35 -0400 (Sun, 15 Oct 2023) EllapsedTime: 30.9 seconds RetCode: 0 Status: OK PackageFile: TDbasedUFE_1.0.0.tar.gz PackageFileSize: 1.2 MiB