Package: TCseq Version: 1.24.3 Command: rm -rf TCseq.buildbin-libdir && mkdir TCseq.buildbin-libdir && F:\biocbuild\bbs-3.17-bioc\R\bin\R.exe CMD INSTALL --build --library=TCseq.buildbin-libdir TCseq_1.24.3.tar.gz StartedAt: 2023-10-16 09:38:37 -0400 (Mon, 16 Oct 2023) EndedAt: 2023-10-16 09:39:12 -0400 (Mon, 16 Oct 2023) EllapsedTime: 35.3 seconds RetCode: 0 Status: OK PackageFile: TCseq_1.24.3.zip PackageFileSize: 748.3 KiB