Package: TCseq Version: 1.24.3 Command: /Library/Frameworks/R.framework/Resources/bin/R CMD INSTALL TCseq StartedAt: 2023-10-15 15:25:32 -0400 (Sun, 15 Oct 2023) EndedAt: 2023-10-15 15:27:09 -0400 (Sun, 15 Oct 2023) EllapsedTime: 96.7 seconds RetCode: 0 Status: OK