Package: TCseq Version: 1.24.3 Command: /Library/Frameworks/R.framework/Resources/bin/R CMD build --keep-empty-dirs --no-resave-data TCseq StartedAt: 2023-10-15 21:50:28 -0400 (Sun, 15 Oct 2023) EndedAt: 2023-10-15 21:52:10 -0400 (Sun, 15 Oct 2023) EllapsedTime: 101.8 seconds RetCode: 0 Status: OK PackageFile: TCseq_1.24.3.tar.gz PackageFileSize: 1.115 MiB