Package: TCseq Version: 1.24.3 Command: rm -rf TCseq.buildbin-libdir && mkdir TCseq.buildbin-libdir && /Users/biocbuild/BBS/utils/build-universal.sh TCseq_1.24.3.tar.gz /Library/Frameworks/R.framework/Resources/bin/R TCseq.buildbin-libdir StartedAt: 2023-10-16 10:20:37 -0400 (Mon, 16 Oct 2023) EndedAt: 2023-10-16 10:22:08 -0400 (Mon, 16 Oct 2023) EllapsedTime: 91.4 seconds RetCode: 0 Status: OK PackageFile: TCseq_1.24.3.tgz PackageFileSize: 837.7 KiB