Package: TCGAutils Version: 1.20.4 Command: /home/biocbuild/bbs-3.17-bioc/R/bin/R CMD check --install=check:TCGAutils.install-out.txt --library=/home/biocbuild/bbs-3.17-bioc/R/site-library --timings TCGAutils_1.20.4.tar.gz StartedAt: 2023-10-16 01:41:34 -0400 (Mon, 16 Oct 2023) EndedAt: 2023-10-16 01:49:46 -0400 (Mon, 16 Oct 2023) EllapsedTime: 491.9 seconds RetCode: 0 Status: OK CheckDir: TCGAutils.Rcheck Warnings: 0