Package: TCGAutils Version: 1.20.4 Command: /Library/Frameworks/R.framework/Resources/bin/R CMD check --install=check:TCGAutils.install-out.txt --library=/Library/Frameworks/R.framework/Resources/library --no-vignettes --timings TCGAutils_1.20.4.tar.gz StartedAt: 2023-10-02 08:09:39 -0400 (Mon, 02 Oct 2023) EndedAt: 2023-10-02 08:24:38 -0400 (Mon, 02 Oct 2023) EllapsedTime: 899.3 seconds RetCode: 0 Status: OK CheckDir: TCGAutils.Rcheck Warnings: 0