Package: TCGAutils Version: 1.20.4 Command: rm -rf TCGAutils.buildbin-libdir && mkdir TCGAutils.buildbin-libdir && /Users/biocbuild/BBS/utils/build-universal.sh TCGAutils_1.20.4.tar.gz /Library/Frameworks/R.framework/Resources/bin/R TCGAutils.buildbin-libdir StartedAt: 2023-10-02 10:36:55 -0400 (Mon, 02 Oct 2023) EndedAt: 2023-10-02 10:38:57 -0400 (Mon, 02 Oct 2023) EllapsedTime: 122.1 seconds RetCode: 0 Status: OK PackageFile: TCGAutils_1.20.4.tgz PackageFileSize: 517.4 KiB