Package: TCGAbiolinks Version: 2.28.4 Command: rm -rf TCGAbiolinks.buildbin-libdir && mkdir TCGAbiolinks.buildbin-libdir && F:\biocbuild\bbs-3.17-bioc\R\bin\R.exe CMD INSTALL --build --library=TCGAbiolinks.buildbin-libdir TCGAbiolinks_2.28.4.tar.gz StartedAt: 2023-10-16 09:38:34 -0400 (Mon, 16 Oct 2023) EndedAt: 2023-10-16 09:39:43 -0400 (Mon, 16 Oct 2023) EllapsedTime: 69.7 seconds RetCode: 0 Status: OK PackageFile: TCGAbiolinks_2.28.4.zip PackageFileSize: 60.7 MiB