Package: TCGAbiolinks Version: 2.28.4 Command: /home/biocbuild/bbs-3.17-bioc/R/bin/R CMD INSTALL TCGAbiolinks StartedAt: 2023-10-15 15:21:18 -0400 (Sun, 15 Oct 2023) EndedAt: 2023-10-15 15:21:59 -0400 (Sun, 15 Oct 2023) EllapsedTime: 41.1 seconds RetCode: 0 Status: OK