Package: TCGAbiolinks Version: 2.28.4 Command: /home/biocbuild/bbs-3.17-bioc/R/bin/R CMD build --keep-empty-dirs --no-resave-data TCGAbiolinks StartedAt: 2023-10-15 18:46:49 -0400 (Sun, 15 Oct 2023) EndedAt: 2023-10-15 18:51:32 -0400 (Sun, 15 Oct 2023) EllapsedTime: 283.7 seconds RetCode: 0 Status: OK PackageFile: TCGAbiolinks_2.28.4.tar.gz PackageFileSize: 62.6 MiB