Package: TCGAbiolinks Version: 2.28.4 Command: /Library/Frameworks/R.framework/Resources/bin/R CMD INSTALL TCGAbiolinks StartedAt: 2023-10-15 15:29:45 -0400 (Sun, 15 Oct 2023) EndedAt: 2023-10-15 15:31:56 -0400 (Sun, 15 Oct 2023) EllapsedTime: 130.9 seconds RetCode: 0 Status: OK