Package: TCGAbiolinks Version: 2.28.4 Command: /Library/Frameworks/R.framework/Resources/bin/R CMD check --install=check:TCGAbiolinks.install-out.txt --library=/Library/Frameworks/R.framework/Resources/library --no-vignettes --timings TCGAbiolinks_2.28.4.tar.gz StartedAt: 2023-10-16 07:56:47 -0400 (Mon, 16 Oct 2023) EndedAt: 2023-10-16 08:13:22 -0400 (Mon, 16 Oct 2023) EllapsedTime: 995.2 seconds RetCode: 0 Status: OK CheckDir: TCGAbiolinks.Rcheck Warnings: 0