Package: TCGAbiolinks Version: 2.28.4 Command: /Library/Frameworks/R.framework/Resources/bin/R CMD build --keep-empty-dirs --no-resave-data TCGAbiolinks StartedAt: 2023-10-15 21:50:01 -0400 (Sun, 15 Oct 2023) EndedAt: 2023-10-15 21:58:29 -0400 (Sun, 15 Oct 2023) EllapsedTime: 508.1 seconds RetCode: 0 Status: OK PackageFile: TCGAbiolinks_2.28.4.tar.gz PackageFileSize: 62.21 MiB