Package: TBSignatureProfiler Version: 1.12.0 Command: F:\biocbuild\bbs-3.17-bioc\R\bin\R.exe CMD check --no-multiarch --install=check:TBSignatureProfiler.install-out.txt --library=F:\biocbuild\bbs-3.17-bioc\R\library --no-vignettes --timings TBSignatureProfiler_1.12.0.tar.gz StartedAt: 2023-10-16 07:33:23 -0400 (Mon, 16 Oct 2023) EndedAt: 2023-10-16 07:36:05 -0400 (Mon, 16 Oct 2023) EllapsedTime: 161.9 seconds RetCode: 0 Status: OK CheckDir: TBSignatureProfiler.Rcheck Warnings: 0