Package: TAPseq Version: 1.12.0 Command: chmod a+r TAPseq -R && F:\biocbuild\bbs-3.17-bioc\R\bin\R.exe CMD build --keep-empty-dirs --no-resave-data TAPseq StartedAt: 2023-10-15 22:47:11 -0400 (Sun, 15 Oct 2023) EndedAt: 2023-10-15 22:49:21 -0400 (Sun, 15 Oct 2023) EllapsedTime: 129.5 seconds RetCode: 0 Status: OK PackageFile: TAPseq_1.12.0.tar.gz PackageFileSize: 2.439 MiB